Workbook

Sheet INPUT
A1: VERIFICA TRAVE A CASSONE
A2: Parametro | C2: Valore | D2: Unità
A3: NEd | C3: 2488.3 | D3: kN
A4: Vy,Ed | C4: 172 | D4: kN
A5: Lato piastra | B5: bp | C5: 500 | D5: mm
A6: Spessore piastra | B6: sp | C6: 30 | D6: mm
A7: Altezza cassone | B7: h | C7: 1000 | D7: mm
A8: Spessore piattabanda | B8: tf | C8: 30 | D8: mm
A9: Spessore anima | B9: tw | C9: 20 | D9: mm
A10: Larghezza piattabanda | B10: b | C10: 800 | D10: mm
A11: Larghezza sbalzo piattabanda | B11: bs | C11: 100 | D11: mm
A12: Larghezza esterna anime | B12: bi | C12: =C10-2*C11 -> 600 | D12: mm
A13: Numero anime | C13: 2 | D13: -
A14: Acciaio fy | C14: 235 | D14: MPa
A15: γM0 | C15: 1.05 | D15: -
A16: Braccio torsione | B16: e | C16: =C7/2/1000 -> 0.5 | D16: m
A38: Verifica | C38: Utilizzazione | D38: Esito
A39: Compressione locale | C39: =VERIFICHE!B7 -> 0.44830388 | D39: =VERIFICHE!B8 -> VERIFICATA
A40: Taglio delle anime | C40: =VERIFICHE!B20 -> 0.51214974 | D40: =VERIFICHE!B21 -> VERIFICATA
A41: Taglio associato alla torsione | C41: =VERIFICHE!B31 -> 0.035401582 | D41: =VERIFICHE!B32 -> VERIFICATA
A42: Torsione della sezione | C42: =VERIFICHE!B49 -> 0.029574731 | D42: =VERIFICHE!B50 -> VERIFICATA

Sheet VERIFICHE
A1: VERIFICA A COMPRESIONE DELLE ANIME DELLA TRAVE A CASSONE
A2: Parametro | B2: Formula/Valore
A3: beff [mm] | B3: =INPUT!C5+2*(INPUT!C6+INPUT!C8) -> 620
A4: Area A [mm2] | B4: =INPUT!C13*B3*INPUT!C9 -> 24800
A5: fyd [MPa] | B5: =INPUT!C14/INPUT!C15 -> 223.80952
A6: sigmaEd [MPa] | B6: =INPUT!C3*1000/B4 -> 100.33468
A7: Utilizzazione | B7: =B6/B5 -> 0.44830388
A8: Esito | B8: =IF(B7<=1,"VERIFICATA","NON VERIFICATA") -> VERIFICATA
A10: Nota | B10: beff = 500 + 2(30+30)=620 mm; A = 2·620·20
A12: VERIFICA A TAGLIO DELLE ANIME DELLA TRAVE A CASSONE
A13: Parametro | B13: Formula/Valore
A14: VEd [kN] | B14: =INPUT!C3 -> 2488.3
A15: Altezza utile anime hw [mm] | B15: =INPUT!C7-2*INPUT!C8 -> 940
A16: Area resistente a taglio Av [mm2] | B16: =INPUT!C13*INPUT!C9*B15 -> 37600
A17: fy [MPa] | B17: =INPUT!C14 -> 235
A18: γM0 [-] | B18: =INPUT!C15 -> 1.05
A19: Vpl,Rd [kN] | B19: =B16*B17/(SQRT(3)*B18)/1000 -> 4858.54
A20: Utilizzazione [-] | B20: =B14/B19 -> 0.51214974
A21: Esito | B21: =IF(B20<=1,"VERIFICATA","NON VERIFICATA") -> VERIFICATA
A22: Riferimento | B22: UNI EN 1993-1-1 §6.2.6
A23: Nota | B23: Av = 2 · 20 · 940 = 37 600 mm²; VEd = 2 488,3 kN; Vpl,Rd ≈ 4 860 kN.
A25: VERIFICA A TAGLIO DELL'AZIONE ASSOCIATA ALLA TORSIONE
A26: Parametro | B26: Formula/Valore
A27: Vy,Ed [kN] | B27: =INPUT!C4 -> 172
A28: Area di riferimento [mm2] | B28: =B16 -> 37600
A29: τEd [MPa] | B29: =B27*1000/B28 -> 4.5744681
A30: τRd [MPa] | B30: =INPUT!C14/(SQRT(3)*INPUT!C15) -> 129.21649
A31: Utilizzazione [-] | B31: =B29/B30 -> 0.035401582
A32: Esito | B32: =IF(B31<=1,"VERIFICATA","NON VERIFICATA") -> VERIFICATA
A34: VERIFICA TORSIONALE DELLA TRAVE A CASSONE
A35: Parametro | B35: Valore
A36: Vy,Ed [kN] | B36: =INPUT!C4 -> 172
A37: Braccio e [m] | B37: =INPUT!C16 -> 0.5
A38: Momento torcente TEd [kNm] | B38: =B36*B37 -> 86
A39: Distanza esterna anime [mm] | B39: =INPUT!C12 -> 600
A40: Spessore anima [mm] | B40: =INPUT!C9 -> 20
A41: Altezza esterna cassone [mm] | B41: =INPUT!C7 -> 1000
A42: Spessore piattabanda [mm] | B42: =INPUT!C8 -> 30
A43: Bm [mm] | B43: =B39-B40/2-B40/2 -> 580
A44: Hm [mm] | B44: =B41-B42/2-B42/2 -> 970
...
